BEGIN:VCALENDAR
VERSION:2.0
PRODID:-//Встречи Free Away - ECPv5.9.0//NONSGML v1.0//EN
CALSCALE:GREGORIAN
METHOD:PUBLISH
X-WR-CALNAME:Встречи Free Away
X-ORIGINAL-URL:https://freeaway.by
X-WR-CALDESC:Мероприятия для Встречи Free Away
BEGIN:VTIMEZONE
TZID:Europe/Minsk
BEGIN:STANDARD
TZOFFSETFROM:+0300
TZOFFSETTO:+0300
TZNAME:+03
DTSTART:20260101T000000
END:STANDARD
END:VTIMEZONE
BEGIN:VEVENT
DTSTART;TZID=Europe/Minsk:20260424T180000
DTEND;TZID=Europe/Minsk:20260424T210000
DTSTAMP:20260424T112943
CREATED:20210827T212727Z
LAST-MODIFIED:20260423T191212Z
UID:11620-1777053600-1777064400@freeaway.by
SUMMARY:Online сатсанг с Нго-Ма
DESCRIPTION:Привет\, друзья!Приглашаю на online сатсанги с Нго-Ма в пятницу 16 ноября! Открыта предварительная запись.Стоимость участия: 30 BYN в день для жителей из Беларуси. Если вы из другой страны\, обращайтесь к организаторам.Для тех\, кто в первый раз\, пройдет тестовое подключение.Позаботьтесь о стабильном интернете и обновите Zoom до последней версии.Для участия обращайтесь:Вконтакте: Алиса ОмелинаFacebook: Оля ШалеснаяTelegram по номеру +7 921 884-15-70WhatsApp по номеру +375 29 138-31-27
URL:https://freeaway.by/satsang/online-satsang-pyatnica-2024-05-10-2026-04-24/
CATEGORIES:Повторяющиеся,Пятница
ATTACH;FMTTYPE=image/jpeg:https://freeaway.by/wp-content/uploads/252526-апреля.jpg
END:VEVENT
END:VCALENDAR